Package: miaViz Version: 1.15.6 Command: /home/biocbuild/bbs-3.21-bioc/R/bin/R CMD check --install=check:miaViz.install-out.txt --library=/home/biocbuild/bbs-3.21-bioc/R/site-library --timings miaViz_1.15.6.tar.gz StartedAt: 2025-02-13 00:07:42 -0500 (Thu, 13 Feb 2025) EndedAt: 2025-02-13 00:17:26 -0500 (Thu, 13 Feb 2025) EllapsedTime: 583.7 seconds RetCode: 0 Status: OK CheckDir: miaViz.Rcheck Warnings: 0