Package: microRNA Version: 1.65.1 Command: /Library/Frameworks/R.framework/Resources/bin/R CMD check --install=check:microRNA.install-out.txt --library=/Library/Frameworks/R.framework/Resources/library --no-vignettes --timings microRNA_1.65.1.tar.gz StartedAt: 2025-02-09 20:06:24 -0500 (Sun, 09 Feb 2025) EndedAt: 2025-02-09 20:07:00 -0500 (Sun, 09 Feb 2025) EllapsedTime: 35.4 seconds RetCode: 0 Status: OK CheckDir: microRNA.Rcheck Warnings: 0