Package: microRNA Version: 1.65.1 Command: /home/biocbuild/bbs-3.21-bioc/R/bin/R CMD INSTALL microRNA StartedAt: 2025-02-12 15:15:20 -0500 (Wed, 12 Feb 2025) EndedAt: 2025-02-12 15:15:31 -0500 (Wed, 12 Feb 2025) EllapsedTime: 10.9 seconds RetCode: 0 Status: OK