Package: microSTASIS Version: 1.7.0 Command: /Library/Frameworks/R.framework/Resources/bin/R CMD check --install=check:microSTASIS.install-out.txt --library=/Library/Frameworks/R.framework/Resources/library --no-vignettes --timings microSTASIS_1.7.0.tar.gz StartedAt: 2025-02-12 20:11:24 -0500 (Wed, 12 Feb 2025) EndedAt: 2025-02-12 20:13:53 -0500 (Wed, 12 Feb 2025) EllapsedTime: 148.8 seconds RetCode: 0 Status: OK CheckDir: microSTASIS.Rcheck Warnings: 0