Package: microSTASIS Version: 1.7.0 Command: /Library/Frameworks/R.framework/Resources/bin/R CMD INSTALL microSTASIS StartedAt: 2025-02-09 15:12:55 -0500 (Sun, 09 Feb 2025) EndedAt: 2025-02-09 15:12:57 -0500 (Sun, 09 Feb 2025) EllapsedTime: 1.7 seconds RetCode: 0 Status: OK