Package: microSTASIS Version: 1.7.0 Command: /home/biocbuild/R/R/bin/R CMD build --keep-empty-dirs --no-resave-data microSTASIS StartedAt: 2025-01-29 00:20:30 -0000 (Wed, 29 Jan 2025) EndedAt: 2025-01-29 00:22:09 -0000 (Wed, 29 Jan 2025) EllapsedTime: 99.0 seconds RetCode: 0 Status: OK PackageFile: microSTASIS_1.7.0.tar.gz PackageFileSize: 827.4 KiB