Package: microSTASIS Version: 1.7.0 Command: rm -rf microSTASIS.buildbin-libdir && mkdir microSTASIS.buildbin-libdir && /Users/biocbuild/BBS/utils/build-universal.sh microSTASIS_1.7.0.tar.gz /Library/Frameworks/R.framework/Resources/bin/R microSTASIS.buildbin-libdir StartedAt: 2025-02-10 01:02:45 -0500 (Mon, 10 Feb 2025) EndedAt: 2025-02-10 01:02:51 -0500 (Mon, 10 Feb 2025) EllapsedTime: 5.8 seconds RetCode: 0 Status: OK PackageFile: microSTASIS_1.7.0.tgz PackageFileSize: 1.47 MiB