Package: microSTASIS Version: 1.7.0 Command: /Library/Frameworks/R.framework/Resources/bin/R CMD build --keep-empty-dirs --no-resave-data microSTASIS StartedAt: 2025-02-09 17:27:11 -0500 (Sun, 09 Feb 2025) EndedAt: 2025-02-09 17:28:31 -0500 (Sun, 09 Feb 2025) EllapsedTime: 80.2 seconds RetCode: 0 Status: OK PackageFile: microSTASIS_1.7.0.tar.gz PackageFileSize: 1.429 MiB