Package: microSTASIS Version: 1.7.0 Command: /Library/Frameworks/R.framework/Resources/bin/R CMD check --install=check:microSTASIS.install-out.txt --library=/Library/Frameworks/R.framework/Resources/library --no-vignettes --timings microSTASIS_1.7.0.tar.gz StartedAt: 2025-02-09 21:54:38 -0500 (Sun, 09 Feb 2025) EndedAt: 2025-02-09 21:59:17 -0500 (Sun, 09 Feb 2025) EllapsedTime: 279.4 seconds RetCode: 0 Status: OK CheckDir: microSTASIS.Rcheck Warnings: 0