Package: microSTASIS Version: 1.7.0 Command: /home/biocbuild/bbs-3.21-bioc/R/bin/R CMD check --install=check:microSTASIS.install-out.txt --library=/home/biocbuild/bbs-3.21-bioc/R/site-library --timings microSTASIS_1.7.0.tar.gz StartedAt: 2025-02-10 00:10:03 -0500 (Mon, 10 Feb 2025) EndedAt: 2025-02-10 00:15:19 -0500 (Mon, 10 Feb 2025) EllapsedTime: 316.4 seconds RetCode: 0 Status: OK CheckDir: microSTASIS.Rcheck Warnings: 0