Package: microSTASIS Version: 1.7.0 Command: /home/biocbuild/bbs-3.21-bioc/R/bin/R CMD INSTALL microSTASIS StartedAt: 2025-02-12 15:24:25 -0500 (Wed, 12 Feb 2025) EndedAt: 2025-02-12 15:24:29 -0500 (Wed, 12 Feb 2025) EllapsedTime: 4.0 seconds RetCode: 0 Status: OK