Package: microSTASIS Version: 1.7.0 Command: chmod a+r microSTASIS -R && E:\biocbuild\bbs-3.21-bioc\R\bin\R.exe CMD build --keep-empty-dirs --no-resave-data microSTASIS StartedAt: 2025-02-09 19:54:19 -0500 (Sun, 09 Feb 2025) EndedAt: 2025-02-09 19:55:38 -0500 (Sun, 09 Feb 2025) EllapsedTime: 79.3 seconds RetCode: 1 Status: ERROR PackageFile: None PackageFileSize: NA