Package: microSTASIS Version: 1.7.0 Command: E:\biocbuild\bbs-3.21-bioc\R\bin\R.exe CMD INSTALL microSTASIS StartedAt: 2025-02-12 16:22:31 -0500 (Wed, 12 Feb 2025) EndedAt: 2025-02-12 16:22:47 -0500 (Wed, 12 Feb 2025) EllapsedTime: 15.7 seconds RetCode: 0 Status: OK