Package: microbiome Version: 1.29.0 Command: /Library/Frameworks/R.framework/Resources/bin/R CMD check --install=check:microbiome.install-out.txt --library=/Library/Frameworks/R.framework/Resources/library --no-vignettes --timings microbiome_1.29.0.tar.gz StartedAt: 2025-02-09 20:05:49 -0500 (Sun, 09 Feb 2025) EndedAt: 2025-02-09 20:07:02 -0500 (Sun, 09 Feb 2025) EllapsedTime: 72.9 seconds RetCode: 1 Status: ERROR CheckDir: microbiome.Rcheck Warnings: NA