Package: microbiome Version: 1.29.0 Command: /home/biocbuild/R/R/bin/R CMD INSTALL microbiome StartedAt: 2025-01-29 20:23:02 -0000 (Wed, 29 Jan 2025) EndedAt: 2025-01-29 20:23:32 -0000 (Wed, 29 Jan 2025) EllapsedTime: 30.2 seconds RetCode: 0 Status: OK