Package: microbiome Version: 1.29.0 Command: /Library/Frameworks/R.framework/Resources/bin/R CMD build --keep-empty-dirs --no-resave-data microbiome StartedAt: 2025-02-09 17:26:30 -0500 (Sun, 09 Feb 2025) EndedAt: 2025-02-09 17:27:11 -0500 (Sun, 09 Feb 2025) EllapsedTime: 41.1 seconds RetCode: 0 Status: OK PackageFile: microbiome_1.29.0.tar.gz PackageFileSize: 714 KiB