Package: microbiome Version: 1.29.0 Command: /Library/Frameworks/R.framework/Resources/bin/R CMD INSTALL microbiome StartedAt: 2025-02-09 15:37:00 -0500 (Sun, 09 Feb 2025) EndedAt: 2025-02-09 15:37:30 -0500 (Sun, 09 Feb 2025) EllapsedTime: 29.3 seconds RetCode: 0 Status: OK