Package: microbiome Version: 1.29.0 Command: chmod a+r microbiome -R && E:\biocbuild\bbs-3.21-bioc\R\bin\R.exe CMD build --keep-empty-dirs --no-resave-data microbiome StartedAt: 2025-02-09 19:53:47 -0500 (Sun, 09 Feb 2025) EndedAt: 2025-02-09 19:55:02 -0500 (Sun, 09 Feb 2025) EllapsedTime: 74.9 seconds RetCode: 0 Status: OK PackageFile: microbiome_1.29.0.tar.gz PackageFileSize: 714.1 KiB