Package: microbiomeDASim Version: 1.21.0 Command: /Library/Frameworks/R.framework/Resources/bin/R CMD build --keep-empty-dirs --no-resave-data microbiomeDASim StartedAt: 2025-02-04 16:56:34 -0500 (Tue, 04 Feb 2025) EndedAt: 2025-02-04 16:56:59 -0500 (Tue, 04 Feb 2025) EllapsedTime: 25.3 seconds RetCode: 0 Status: OK PackageFile: microbiomeDASim_1.21.0.tar.gz PackageFileSize: 1.499 MiB