Package: microbiomeDASim Version: 1.21.0 Command: /Library/Frameworks/R.framework/Resources/bin/R CMD check --install=check:microbiomeDASim.install-out.txt --library=/Library/Frameworks/R.framework/Resources/library --no-vignettes --timings microbiomeDASim_1.21.0.tar.gz StartedAt: 2025-02-04 20:07:50 -0500 (Tue, 04 Feb 2025) EndedAt: 2025-02-04 20:09:17 -0500 (Tue, 04 Feb 2025) EllapsedTime: 87.0 seconds RetCode: 0 Status: OK CheckDir: microbiomeDASim.Rcheck Warnings: 0