Package: microbiomeDASim Version: 1.21.0 Command: /home/biocbuild/R/R/bin/R CMD build --keep-empty-dirs --no-resave-data microbiomeDASim StartedAt: 2025-01-29 00:19:30 -0000 (Wed, 29 Jan 2025) EndedAt: 2025-01-29 00:20:26 -0000 (Wed, 29 Jan 2025) EllapsedTime: 56.0 seconds RetCode: 0 Status: OK PackageFile: microbiomeDASim_1.21.0.tar.gz PackageFileSize: 1.564 MiB