Package: microbiomeDASim Version: 1.21.0 Command: /home/biocbuild/R/R/bin/R CMD check --install=check:microbiomeDASim.install-out.txt --library=/home/biocbuild/R/R/site-library --no-vignettes --timings microbiomeDASim_1.21.0.tar.gz StartedAt: 2025-01-28 12:26:40 -0000 (Tue, 28 Jan 2025) EndedAt: 2025-01-28 12:30:48 -0000 (Tue, 28 Jan 2025) EllapsedTime: 248.3 seconds RetCode: 0 Status: OK CheckDir: microbiomeDASim.Rcheck Warnings: 0