Package: microbiomeDASim Version: 1.21.0 Command: /Library/Frameworks/R.framework/Resources/bin/R CMD INSTALL microbiomeDASim StartedAt: 2025-02-04 15:35:47 -0500 (Tue, 04 Feb 2025) EndedAt: 2025-02-04 15:36:13 -0500 (Tue, 04 Feb 2025) EllapsedTime: 25.9 seconds RetCode: 0 Status: OK