Package: microbiomeDASim Version: 1.21.0 Command: /home/biocbuild/bbs-3.21-bioc/R/bin/R CMD build --keep-empty-dirs --no-resave-data microbiomeDASim StartedAt: 2025-02-04 18:04:39 -0500 (Tue, 04 Feb 2025) EndedAt: 2025-02-04 18:05:24 -0500 (Tue, 04 Feb 2025) EllapsedTime: 45.1 seconds RetCode: 0 Status: OK PackageFile: microbiomeDASim_1.21.0.tar.gz PackageFileSize: 1.499 MiB