Package: microbiomeDASim Version: 1.21.0 Command: /home/biocbuild/bbs-3.21-bioc/R/bin/R CMD check --install=check:microbiomeDASim.install-out.txt --library=/home/biocbuild/bbs-3.21-bioc/R/site-library --timings microbiomeDASim_1.21.0.tar.gz StartedAt: 2025-02-05 00:15:20 -0500 (Wed, 05 Feb 2025) EndedAt: 2025-02-05 00:21:59 -0500 (Wed, 05 Feb 2025) EllapsedTime: 398.5 seconds RetCode: 0 Status: OK CheckDir: microbiomeDASim.Rcheck Warnings: 0