Package: microbiomeDASim Version: 1.21.0 Command: /home/biocbuild/bbs-3.21-bioc/R/bin/R CMD INSTALL microbiomeDASim StartedAt: 2025-02-04 15:16:07 -0500 (Tue, 04 Feb 2025) EndedAt: 2025-02-04 15:16:27 -0500 (Tue, 04 Feb 2025) EllapsedTime: 19.6 seconds RetCode: 0 Status: OK