Package: microbiomeDASim Version: 1.21.0 Command: rm -rf microbiomeDASim.buildbin-libdir && mkdir microbiomeDASim.buildbin-libdir && E:\biocbuild\bbs-3.21-bioc\R\bin\R.exe CMD INSTALL --build --library=microbiomeDASim.buildbin-libdir microbiomeDASim_1.21.0.tar.gz StartedAt: 2025-02-05 08:20:30 -0500 (Wed, 05 Feb 2025) EndedAt: 2025-02-05 08:21:20 -0500 (Wed, 05 Feb 2025) EllapsedTime: 50.4 seconds RetCode: 0 Status: OK PackageFile: microbiomeDASim_1.21.0.zip PackageFileSize: 1.563 MiB