Package: microbiomeDASim Version: 1.21.0 Command: chmod a+r microbiomeDASim -R && E:\biocbuild\bbs-3.21-bioc\R\bin\R.exe CMD build --keep-empty-dirs --no-resave-data microbiomeDASim StartedAt: 2025-02-04 19:55:49 -0500 (Tue, 04 Feb 2025) EndedAt: 2025-02-04 19:57:39 -0500 (Tue, 04 Feb 2025) EllapsedTime: 109.5 seconds RetCode: 0 Status: OK PackageFile: microbiomeDASim_1.21.0.tar.gz PackageFileSize: 1.494 MiB