Package: microbiomeDASim Version: 1.21.0 Command: E:\biocbuild\bbs-3.21-bioc\R\bin\R.exe CMD INSTALL microbiomeDASim StartedAt: 2025-02-04 16:37:54 -0500 (Tue, 04 Feb 2025) EndedAt: 2025-02-04 16:38:38 -0500 (Tue, 04 Feb 2025) EllapsedTime: 43.9 seconds RetCode: 0 Status: OK