Package: microbiomeExplorer Version: 1.17.0 Command: rm -rf microbiomeExplorer.buildbin-libdir && mkdir microbiomeExplorer.buildbin-libdir && /Users/biocbuild/BBS/utils/build-universal.sh microbiomeExplorer_1.17.0.tar.gz /Library/Frameworks/R.framework/Resources/bin/R microbiomeExplorer.buildbin-libdir StartedAt: 2025-02-09 22:21:06 -0500 (Sun, 09 Feb 2025) EndedAt: 2025-02-09 22:21:13 -0500 (Sun, 09 Feb 2025) EllapsedTime: 6.1 seconds RetCode: 0 Status: OK PackageFile: microbiomeExplorer_1.17.0.tgz PackageFileSize: 3.417 MiB