Package: microbiomeExplorer Version: 1.17.0 Command: /Library/Frameworks/R.framework/Resources/bin/R CMD build --keep-empty-dirs --no-resave-data microbiomeExplorer StartedAt: 2025-02-12 16:56:20 -0500 (Wed, 12 Feb 2025) EndedAt: 2025-02-12 16:56:39 -0500 (Wed, 12 Feb 2025) EllapsedTime: 18.2 seconds RetCode: 0 Status: OK PackageFile: microbiomeExplorer_1.17.0.tar.gz PackageFileSize: 2.976 MiB