Package: microbiomeExplorer Version: 1.17.0 Command: /home/biocbuild/R/R/bin/R CMD INSTALL microbiomeExplorer StartedAt: 2025-01-29 20:26:51 -0000 (Wed, 29 Jan 2025) EndedAt: 2025-01-29 20:27:08 -0000 (Wed, 29 Jan 2025) EllapsedTime: 16.6 seconds RetCode: 0 Status: OK