Package: microbiomeExplorer Version: 1.17.0 Command: /Library/Frameworks/R.framework/Resources/bin/R CMD INSTALL microbiomeExplorer StartedAt: 2025-02-12 15:38:04 -0500 (Wed, 12 Feb 2025) EndedAt: 2025-02-12 15:38:22 -0500 (Wed, 12 Feb 2025) EllapsedTime: 17.3 seconds RetCode: 0 Status: OK