Package: microbiomeExplorer Version: 1.17.0 Command: /home/biocbuild/bbs-3.21-bioc/R/bin/R CMD build --keep-empty-dirs --no-resave-data microbiomeExplorer StartedAt: 2025-02-09 18:06:51 -0500 (Sun, 09 Feb 2025) EndedAt: 2025-02-09 18:07:27 -0500 (Sun, 09 Feb 2025) EllapsedTime: 36.0 seconds RetCode: 0 Status: OK PackageFile: microbiomeExplorer_1.17.0.tar.gz PackageFileSize: 2.976 MiB