Package: microbiomeExplorer Version: 1.17.0 Command: /home/biocbuild/bbs-3.21-bioc/R/bin/R CMD INSTALL microbiomeExplorer StartedAt: 2025-02-12 15:23:56 -0500 (Wed, 12 Feb 2025) EndedAt: 2025-02-12 15:24:08 -0500 (Wed, 12 Feb 2025) EllapsedTime: 12.1 seconds RetCode: 0 Status: OK