Package: microbiomeExplorer Version: 1.17.0 Command: rm -rf microbiomeExplorer.buildbin-libdir && mkdir microbiomeExplorer.buildbin-libdir && E:\biocbuild\bbs-3.21-bioc\R\bin\R.exe CMD INSTALL --build --library=microbiomeExplorer.buildbin-libdir microbiomeExplorer_1.17.0.tar.gz StartedAt: 2025-02-10 08:08:31 -0500 (Mon, 10 Feb 2025) EndedAt: 2025-02-10 08:13:58 -0500 (Mon, 10 Feb 2025) EllapsedTime: 326.6 seconds RetCode: 0 Status: OK PackageFile: microbiomeExplorer_1.17.0.zip PackageFileSize: 3.388 MiB