Package: microbiomeExplorer Version: 1.17.0 Command: E:\biocbuild\bbs-3.21-bioc\R\bin\R.exe CMD check --no-multiarch --install=check:microbiomeExplorer.install-out.txt --library=E:\biocbuild\bbs-3.21-bioc\R\library --no-vignettes --timings microbiomeExplorer_1.17.0.tar.gz StartedAt: 2025-02-10 02:55:33 -0500 (Mon, 10 Feb 2025) EndedAt: 2025-02-10 02:57:48 -0500 (Mon, 10 Feb 2025) EllapsedTime: 134.1 seconds RetCode: 0 Status: OK CheckDir: microbiomeExplorer.Rcheck Warnings: 0