Package: microbiomeExplorer Version: 1.17.0 Command: E:\biocbuild\bbs-3.21-bioc\R\bin\R.exe CMD INSTALL microbiomeExplorer StartedAt: 2025-02-12 16:47:12 -0500 (Wed, 12 Feb 2025) EndedAt: 2025-02-12 16:50:17 -0500 (Wed, 12 Feb 2025) EllapsedTime: 185.2 seconds RetCode: 0 Status: OK