Package: midasHLA Version: 1.15.0 Command: /Library/Frameworks/R.framework/Resources/bin/R CMD check --install=check:midasHLA.install-out.txt --library=/Library/Frameworks/R.framework/Resources/library --no-vignettes --timings midasHLA_1.15.0.tar.gz StartedAt: 2025-02-12 20:11:35 -0500 (Wed, 12 Feb 2025) EndedAt: 2025-02-12 20:13:30 -0500 (Wed, 12 Feb 2025) EllapsedTime: 115.4 seconds RetCode: 1 Status: ERROR CheckDir: midasHLA.Rcheck Warnings: NA