Package: midasHLA Version: 1.15.0 Command: /Library/Frameworks/R.framework/Resources/bin/R CMD INSTALL midasHLA StartedAt: 2025-02-09 15:21:52 -0500 (Sun, 09 Feb 2025) EndedAt: 2025-02-09 15:22:05 -0500 (Sun, 09 Feb 2025) EllapsedTime: 12.5 seconds RetCode: 0 Status: OK