Package: midasHLA Version: 1.15.0 Command: rm -rf midasHLA.buildbin-libdir && mkdir midasHLA.buildbin-libdir && /Users/biocbuild/BBS/utils/build-universal.sh midasHLA_1.15.0.tar.gz /Library/Frameworks/R.framework/Resources/bin/R midasHLA.buildbin-libdir StartedAt: 2025-02-10 01:02:48 -0500 (Mon, 10 Feb 2025) EndedAt: 2025-02-10 01:03:36 -0500 (Mon, 10 Feb 2025) EllapsedTime: 48.6 seconds RetCode: 0 Status: OK PackageFile: midasHLA_1.15.0.tgz PackageFileSize: 2.849 MiB