Package: midasHLA Version: 1.15.0 Command: /home/biocbuild/bbs-3.21-bioc/R/bin/R CMD build --keep-empty-dirs --no-resave-data midasHLA StartedAt: 2025-02-12 18:03:40 -0500 (Wed, 12 Feb 2025) EndedAt: 2025-02-12 18:05:50 -0500 (Wed, 12 Feb 2025) EllapsedTime: 130.1 seconds RetCode: 0 Status: OK PackageFile: midasHLA_1.15.0.tar.gz PackageFileSize: 1.891 MiB