Package: midasHLA Version: 1.15.0 Command: /home/biocbuild/bbs-3.21-bioc/R/bin/R CMD check --install=check:midasHLA.install-out.txt --library=/home/biocbuild/bbs-3.21-bioc/R/site-library --timings midasHLA_1.15.0.tar.gz StartedAt: 2025-02-13 00:11:33 -0500 (Thu, 13 Feb 2025) EndedAt: 2025-02-13 00:18:34 -0500 (Thu, 13 Feb 2025) EllapsedTime: 420.6 seconds RetCode: 0 Status: WARNINGS CheckDir: midasHLA.Rcheck Warnings: 1