Package: midasHLA Version: 1.15.0 Command: rm -rf midasHLA.buildbin-libdir && mkdir midasHLA.buildbin-libdir && E:\biocbuild\bbs-3.21-bioc\R\bin\R.exe CMD INSTALL --build --library=midasHLA.buildbin-libdir midasHLA_1.15.0.tar.gz StartedAt: 2025-02-10 08:08:44 -0500 (Mon, 10 Feb 2025) EndedAt: 2025-02-10 08:10:03 -0500 (Mon, 10 Feb 2025) EllapsedTime: 79.2 seconds RetCode: 0 Status: OK PackageFile: midasHLA_1.15.0.zip PackageFileSize: 2.801 MiB