Package: midasHLA Version: 1.15.0 Command: chmod a+r midasHLA -R && E:\biocbuild\bbs-3.21-bioc\R\bin\R.exe CMD build --keep-empty-dirs --no-resave-data midasHLA StartedAt: 2025-02-09 19:54:55 -0500 (Sun, 09 Feb 2025) EndedAt: 2025-02-09 19:58:09 -0500 (Sun, 09 Feb 2025) EllapsedTime: 193.9 seconds RetCode: 0 Status: OK PackageFile: midasHLA_1.15.0.tar.gz PackageFileSize: 1.863 MiB