Package: mina Version: 1.15.0 Command: rm -rf mina.buildbin-libdir && mkdir mina.buildbin-libdir && /Users/biocbuild/BBS/utils/build-universal.sh mina_1.15.0.tar.gz /Library/Frameworks/R.framework/Resources/bin/R mina.buildbin-libdir StartedAt: 2025-02-09 22:21:14 -0500 (Sun, 09 Feb 2025) EndedAt: 2025-02-09 22:21:26 -0500 (Sun, 09 Feb 2025) EllapsedTime: 12.3 seconds RetCode: 0 Status: OK PackageFile: mina_1.15.0.tgz PackageFileSize: 7.853 MiB