Package: mina Version: 1.15.0 Command: /home/biocbuild/R/R/bin/R CMD build --keep-empty-dirs --no-resave-data mina StartedAt: 2025-01-29 00:21:09 -0000 (Wed, 29 Jan 2025) EndedAt: 2025-01-29 00:21:59 -0000 (Wed, 29 Jan 2025) EllapsedTime: 50.0 seconds RetCode: 1 Status: ERROR PackageFile: None PackageFileSize: NA