Package: mina Version: 1.15.0 Command: /home/biocbuild/R/R/bin/R CMD check --install=check:mina.install-out.txt --library=/home/biocbuild/R/R/site-library --no-vignettes --timings mina_1.15.0.tar.gz StartedAt: 2025-01-24 09:58:15 -0000 (Fri, 24 Jan 2025) EndedAt: 2025-01-24 10:03:40 -0000 (Fri, 24 Jan 2025) EllapsedTime: 325.4 seconds RetCode: 0 Status: WARNINGS CheckDir: mina.Rcheck Warnings: 1