Package: mina Version: 1.15.0 Command: /home/biocbuild/bbs-3.21-bioc/R/bin/R CMD INSTALL mina StartedAt: 2025-02-12 15:12:03 -0500 (Wed, 12 Feb 2025) EndedAt: 2025-02-12 15:12:32 -0500 (Wed, 12 Feb 2025) EllapsedTime: 28.7 seconds RetCode: 0 Status: OK