Package: mina Version: 1.15.0 Command: rm -rf mina.buildbin-libdir && mkdir mina.buildbin-libdir && E:\biocbuild\bbs-3.21-bioc\R\bin\R.exe CMD INSTALL --build --library=mina.buildbin-libdir mina_1.15.0.tar.gz StartedAt: 2025-02-10 08:09:04 -0500 (Mon, 10 Feb 2025) EndedAt: 2025-02-10 08:10:21 -0500 (Mon, 10 Feb 2025) EllapsedTime: 77.6 seconds RetCode: 0 Status: OK PackageFile: mina_1.15.0.zip PackageFileSize: 8.15 MiB